BEGIN:VCALENDAR
VERSION:2.0
PRODID:-//Tukios.com/
BEGIN:VEVENT
UID:6503d51e-66eb-4794-9ad5-f96f93f431b8@www.gossfs.com
DTSTAMP:20260420T210002Z
DTSTART:20260529T150000Z
DTEND:20260529T160000Z
SUMMARY:Graveside Service
DESCRIPTION:
URL:https://www.gossfs.com/obituaries/carl-curtis
LOCATION:St. Mary's Cemetery 65 Canada Street  Swanton VT 05488
GEO:44.9217479;-73.1187005
END:VEVENT
END:VCALENDAR