BEGIN:VCALENDAR
VERSION:2.0
PRODID:-//Tukios.com/
BEGIN:VEVENT
UID:214a34eb-6280-49b2-8a7c-10b1e3d14751@www.gossfs.com
DTSTAMP:20260425T231740Z
DTSTART:20260501T210000Z
DTEND:20260502T000000Z
SUMMARY:Visitation
DESCRIPTION:
URL:https://www.gossfs.com/obituaries/charles-purrier
LOCATION: 96 Dickenson Ave  Enosburg Falls VT 05450
GEO:44.9039162;-72.8050964
END:VEVENT
END:VCALENDAR