BEGIN:VCALENDAR
VERSION:2.0
PRODID:-//Tukios.com/
BEGIN:VEVENT
UID:33f02531-e9bf-42b9-b399-a730204d6e7f@www.gossfs.com
DTSTAMP:20260421T032526Z
DTSTART:20260424T150000Z
DTEND:20260424T160000Z
SUMMARY:Funeral Service
DESCRIPTION:
URL:https://www.gossfs.com/obituaries/ronald-nichols
LOCATION:St. Louis Catholic Church 186 Lamkin Street  Highgate Center VT 
	05459
GEO:44.9376535;-73.042018
END:VEVENT
END:VCALENDAR